BEGIN:VCALENDAR
VERSION:2.0
PRODID:icalendar-ruby
CALSCALE:GREGORIAN
BEGIN:VEVENT
DTSTAMP:20260425T103334Z
UID:b2b29472-9d02-4915-9dbc-751eb623420c
DTSTART;VALUE=DATE:20221102
DESCRIPTION:Property ID# 545080\, Locatoin: Harcourts Building - 577 High S
 treet\, Lower Hutt\, Time: 12:00PM
SUMMARY:Auction for 
END:VEVENT
END:VCALENDAR
